BEGIN:VCALENDAR
VERSION:2.0
PRODID:-//Arizona Golf Classic - ECPv6.15.20//NONSGML v1.0//EN
CALSCALE:GREGORIAN
METHOD:PUBLISH
X-ORIGINAL-URL:https://arizonagolfclassic.com
X-WR-CALDESC:Events for Arizona Golf Classic
REFRESH-INTERVAL;VALUE=DURATION:PT1H
X-Robots-Tag:noindex
X-PUBLISHED-TTL:PT1H
BEGIN:VTIMEZONE
TZID:America/Phoenix
BEGIN:STANDARD
TZOFFSETFROM:-0700
TZOFFSETTO:-0700
TZNAME:MST
DTSTART:20250101T000000
END:STANDARD
END:VTIMEZONE
BEGIN:VEVENT
DTSTART;TZID=America/Phoenix:20260313T080000
DTEND;TZID=America/Phoenix:20260313T150000
DTSTAMP:20260421T025137
CREATED:20260217T034702Z
LAST-MODIFIED:20260217T053918Z
UID:10000009-1773388800-1773414000@arizonagolfclassic.com
SUMMARY:WeedWorks - Maricopa County StandDown - Arizona State Fairgrounds
DESCRIPTION:Maricopa County StandDown – Arizona State Fairgrounds – 1826 W. McDowell Rd.\, Phoenix\, AZ –\n8:00AM-3:00PM
URL:https://arizonagolfclassic.com/event/weedworks-maricopa-county-standdown-arizona-state-fairgrounds/2026-03-13/
CATEGORIES:Vendor Fair
ATTACH;FMTTYPE=image/png:https://arizonagolfclassic.com/wp-content/uploads/2026/02/Weedworks.png
END:VEVENT
BEGIN:VEVENT
DTSTART;TZID=America/Phoenix:20260312T080000
DTEND;TZID=America/Phoenix:20260312T170000
DTSTAMP:20260421T025137
CREATED:20260217T034702Z
LAST-MODIFIED:20260217T053918Z
UID:10000008-1773302400-1773334800@arizonagolfclassic.com
SUMMARY:WeedWorks - Maricopa County StandDown - Arizona State Fairgrounds
DESCRIPTION:Maricopa County StandDown – Arizona State Fairgrounds – 1826 W. McDowell Rd.\, Phoenix\, AZ –\n8:00AM-3:00PM
URL:https://arizonagolfclassic.com/event/weedworks-maricopa-county-standdown-arizona-state-fairgrounds/2026-03-12/
CATEGORIES:Vendor Fair
ATTACH;FMTTYPE=image/png:https://arizonagolfclassic.com/wp-content/uploads/2026/02/Weedworks.png
END:VEVENT
END:VCALENDAR