BEGIN:VCALENDAR
VERSION:2.0
PRODID:-//Arizona Golf Classic - ECPv6.15.20//NONSGML v1.0//EN
CALSCALE:GREGORIAN
METHOD:PUBLISH
X-ORIGINAL-URL:https://arizonagolfclassic.com
X-WR-CALDESC:Events for Arizona Golf Classic
REFRESH-INTERVAL;VALUE=DURATION:PT1H
X-Robots-Tag:noindex
X-PUBLISHED-TTL:PT1H
BEGIN:VTIMEZONE
TZID:America/Phoenix
BEGIN:STANDARD
TZOFFSETFROM:-0700
TZOFFSETTO:-0700
TZNAME:MST
DTSTART:20250101T000000
END:STANDARD
END:VTIMEZONE
BEGIN:VEVENT
DTSTART;TZID=America/Phoenix:20260314T100000
DTEND;TZID=America/Phoenix:20260314T120000
DTSTAMP:20260423T043353
CREATED:20260217T035020Z
LAST-MODIFIED:20260217T035020Z
UID:10000010-1773482400-1773489600@arizonagolfclassic.com
SUMMARY:Cannabis Connections Veterans and Chronic Pain - Sol Flower
DESCRIPTION:Cannabis Connections Veterans and Chronic Pain – Sol Flower Dispensary – 13650 N. 99th Ave.\, Sun City\, AZ 10:00AM-12:00PM
URL:https://arizonagolfclassic.com/event/cannabis-connections-veterans-and-chronic-pain-sol-flower/
LOCATION:Sol Flower Sun / Sun City\, 13650 N. 99th Ave.\, Sun City\, AZ\, United States
CATEGORIES:Patent Consulting
ATTACH;FMTTYPE=image/png:https://arizonagolfclassic.com/wp-content/uploads/2026/02/Weedworks.png
END:VEVENT
BEGIN:VEVENT
DTSTART;TZID=America/Phoenix:20260325T080000
DTEND;TZID=America/Phoenix:20260325T110000
DTSTAMP:20260423T043353
CREATED:20260217T035147Z
LAST-MODIFIED:20260217T035147Z
UID:10000011-1774425600-1774436400@arizonagolfclassic.com
SUMMARY:WeedWorks Wednesday - Sol Flower Dispensary / Sun City
DESCRIPTION:WeedWorks Wednesday – Sol Flower Dispensary – 13650 N. 99th Ave.\, Sun City\, AZ – 8:00AM-11:00AM
URL:https://arizonagolfclassic.com/event/weedworks-wednesday-sol-flower-dispensary-sun-city-2/
CATEGORIES:Patent Consulting
ATTACH;FMTTYPE=image/png:https://arizonagolfclassic.com/wp-content/uploads/2026/02/Weedworks.png
END:VEVENT
END:VCALENDAR